BEGIN:VCALENDAR
VERSION:2.0
CALSCALE:GREGORIAN
PRODID:-//Diputació de Barcelona//DibaCMS//EN
BEGIN:VEVENT
UID:6327
DTSTAMP:20260421T173051
DTSTART:20130913T000000
DTEND:20140913T000000
SUMMARY:El Viejas Glorias empata contra els Veterans del Mollet i ara jugarà contra el Sant Quirze
LOCATION:
METHOD:PUBLISH
X-WR-CALNAME:llagosta@llagosta.cat
X-WR-TIMEZONE:Europe/Madrid
DESCRIPTION:El Club Deportivo Viejas Glorias jugarà aquest cap de setmana un amistós contra el Sant Quirze després d'empatar dissabte a dos gols contra els Veterans del Mollet en el primer partit de preparació de la temporada. Óscar Pacheco, que ha tornat a l'equip llagostenc, va obrir el marcador.
URI:https://www.llagosta.cat/actualitat/noticies/el-viejas-glorias-empata-contra-els-veterans-del-mollet-i-ara-jugara-contra-el-sant-quirze.html
CLASS:PUBLIC
END:VEVENT
END:VCALENDAR
