BEGIN:VCALENDAR
VERSION:2.0
CALSCALE:GREGORIAN
PRODID:-//Diputació de Barcelona//DibaCMS//EN
BEGIN:VEVENT
UID:6324
DTSTAMP:20260422T221546
DTSTART:20130913T000000
DTEND:20140913T000000
SUMMARY:La Biblioteca de la llagosta inicia el curs amb algunes novetats a la seva programació
LOCATION:
METHOD:PUBLISH
X-WR-CALNAME:llagosta@llagosta.cat
X-WR-TIMEZONE:Europe/Madrid
DESCRIPTION:La Biblioteca Municipal de la Llagosta comença avui les activitats del curs 2013-2014. La programació inclou algunes novetats, com ara un taller de poesia o una activitat nocturna per a Tots Sants.
URI:https://www.llagosta.cat/actualitat/noticies/la-biblioteca-de-la-llagosta-inicia-el-curs-amb-algunes-novetats-a-la-seva-programacio.html
CLASS:PUBLIC
END:VEVENT
END:VCALENDAR
