BEGIN:VCALENDAR
VERSION:2.0
CALSCALE:GREGORIAN
PRODID:-//Diputació de Barcelona//DibaCMS//EN
BEGIN:VEVENT
UID:6323
DTSTAMP:20260423T203315
DTSTART:20130912T000000
DTEND:20140912T000000
SUMMARY:Demà, veredicte i lliurament de premis del tercer Ral·li fotogràfic de la Festa Major
LOCATION:
METHOD:PUBLISH
X-WR-CALNAME:llagosta@llagosta.cat
X-WR-TIMEZONE:Europe/Madrid
DESCRIPTION:La sala de plens de l'Ajuntament de la Llagosta acollirà demà la lectura del veredicte i el lliurament de premis del tercer Ral·li fotogràfic de la Festa Major. L'acte tindrà lloc a les 19 hores.
URI:https://www.llagosta.cat/actualitat/noticies/dema-veredicte-i-lliurament-de-premis-del-tercer-ralli-fotografic-de-la-festa-major.html
CLASS:PUBLIC
END:VEVENT
END:VCALENDAR
