BEGIN:VCALENDAR
VERSION:2.0
CALSCALE:GREGORIAN
PRODID:-//Diputació de Barcelona//DibaCMS//EN
BEGIN:VEVENT
UID:6322
DTSTAMP:20260422T000044
DTSTART:20130912T000000
DTEND:20140912T000000
SUMMARY:La pluja provoca la suspensió d'alguns dels actes programats per la Diada Nacional de Catalunya
LOCATION:
METHOD:PUBLISH
X-WR-CALNAME:llagosta@llagosta.cat
X-WR-TIMEZONE:Europe/Madrid
DESCRIPTION:La pluja va deslluir els actes programats a la Llagosta amb motiu de la Diada Nacional de Catalunya. Ahir es van fer només la hissada de la Senyera i una petita exhibició dels castellers de Mollet i de Caldes.
URI:https://www.llagosta.cat/actualitat/noticies/la-pluja-provoca-la-suspensio-dalguns-dels-actes-programats-per-la-diada-nacional-de-catalunya.html
CLASS:PUBLIC
END:VEVENT
END:VCALENDAR
