BEGIN:VCALENDAR
VERSION:2.0
CALSCALE:GREGORIAN
PRODID:-//Diputació de Barcelona//DibaCMS//EN
BEGIN:VEVENT
UID:6321
DTSTAMP:20260421T172620
DTSTART:20130912T000000
DTEND:20140912T000000
SUMMARY:El curs escolar ha començat amb total normalitat aquest matí a les escoles de la Llagosta
LOCATION:
METHOD:PUBLISH
X-WR-CALNAME:llagosta@llagosta.cat
X-WR-TIMEZONE:Europe/Madrid
DESCRIPTION:El curs escolar 2013-2014 ha començat avui amb total normalitat a les escoles de la Llagosta. En total, 1.525 alumnes d'educació infantil i primària han iniciat aquest matí les classes als col·legis Sagrada Família, les Planes, Joan Maragall i Gilpe. 
URI:https://www.llagosta.cat/actualitat/noticies/el-curs-escolar-ha-comencat-amb-total-normalitat-aquest-mati-a-les-escoles-de-la-llagosta.html
CLASS:PUBLIC
END:VEVENT
END:VCALENDAR
