BEGIN:VCALENDAR
VERSION:2.0
CALSCALE:GREGORIAN
PRODID:-//Diputació de Barcelona//DibaCMS//EN
BEGIN:VEVENT
UID:6320
DTSTAMP:20260422T060120
DTSTART:20130912T000000
DTEND:20140912T000000
SUMMARY:El sènior del CD la Concòrdia derrota el Centelles (3-2) en el primer amistós de la pretemporada
LOCATION:
METHOD:PUBLISH
X-WR-CALNAME:llagosta@llagosta.cat
X-WR-TIMEZONE:Europe/Madrid
DESCRIPTION:El sènior femení del Club Deportivo la Concòrdia va guanyar dissabte per 3 a 2 el Centelles en el primer amistós de la pretemporada. El partit, que es va celebrar en el marc de la Festa Major de la Llagosta, va començar amb domini visitant. El Centelles es va avançar amb un 0 a 2 al marcador, però les jugadores de la Concòrdia van reaccionar i li van donar la volta amb tres gols. 
URI:https://www.llagosta.cat/actualitat/noticies/el-senior-del-cd-la-concordia-derrota-el-centelles-3-2-en-el-primer-amistos-de-la-pretemporada.html
CLASS:PUBLIC
END:VEVENT
END:VCALENDAR
