BEGIN:VCALENDAR
VERSION:2.0
CALSCALE:GREGORIAN
PRODID:-//Diputació de Barcelona//DibaCMS//EN
BEGIN:VEVENT
UID:6319
DTSTAMP:20260422T013408
DTSTART:20130910T000000
DTEND:20140910T000000
SUMMARY:Saltats guanyen la primera Engreskada de Festa Major davant els Volats
LOCATION:
METHOD:PUBLISH
X-WR-CALNAME:llagosta@llagosta.cat
X-WR-TIMEZONE:Europe/Madrid
DESCRIPTION:Els Saltats es van proclamar campions de la primera edició de l'Engreskada, la competició entre colles de la Festa Major de la Llagosta. Saltats i Volats van lluitar durant tota la Festa per sumar punts. Proves com la Pelea de Gallinas, On està Wally?, la Panotxada, el Safari Expres o la Poció de Cal.

URI:https://www.llagosta.cat/actualitat/noticies/saltats-guanyen-la-primera-engreskada-de-festa-major-davant-els-volats.html
CLASS:PUBLIC
END:VEVENT
END:VCALENDAR
