BEGIN:VCALENDAR
VERSION:2.0
CALSCALE:GREGORIAN
PRODID:-//Diputació de Barcelona//DibaCMS//EN
BEGIN:VEVENT
UID:6318
DTSTAMP:20260421T222254
DTSTART:20130910T000000
DTEND:20140910T000000
SUMMARY:La Festa Major ha comptat novament amb una bona participació de la ciutadania
LOCATION:
METHOD:PUBLISH
X-WR-CALNAME:llagosta@llagosta.cat
X-WR-TIMEZONE:Europe/Madrid
DESCRIPTION:Ahir va finalitzar la Festa Major de la Llagosta, al llarg dels darrers quatre dies s'han desenvolupat a la nostra localitat un bon nombre d'activitats per a tots els públics, que han tornat a comptar amb una bona participació. L'espectacle del monologuista Toni Rodríguez i la presentació de Frankie Magic van posar el punt final a la programació preparada per l'Ajuntament i entitats de la nostra localitat.
URI:https://www.llagosta.cat/actualitat/noticies/la-festa-major-ha-comptat-novament-amb-una-bona-participacio-de-la-ciutadania.html
CLASS:PUBLIC
END:VEVENT
END:VCALENDAR
