BEGIN:VCALENDAR
VERSION:2.0
CALSCALE:GREGORIAN
PRODID:-//Diputació de Barcelona//DibaCMS//EN
BEGIN:VEVENT
UID:6317
DTSTAMP:20260423T112355
DTSTART:20130910T000000
DTEND:20140910T000000
SUMMARY:La Llagosta commemora aquest dimecres la Diada Nacional de Catalunya
LOCATION:
METHOD:PUBLISH
X-WR-CALNAME:llagosta@llagosta.cat
X-WR-TIMEZONE:Europe/Madrid
DESCRIPTION:Després de la celebració de la Festa Major de la nostra localitat, la Llagosta commemorarà demà la Diada. L'acte central serà la hissada de la Senyera, que anirà acompanyada del Cant dels Segadors, l'Himne Nacional de Catalunya, a càrrec de la Coral Miranda.
URI:https://www.llagosta.cat/actualitat/noticies/la-llagosta-commemora-aquest-dimecres-la-diada-nacional-de-catalunya.html
CLASS:PUBLIC
END:VEVENT
END:VCALENDAR
