BEGIN:VCALENDAR
VERSION:2.0
CALSCALE:GREGORIAN
PRODID:-//Diputació de Barcelona//DibaCMS//EN
BEGIN:VEVENT
UID:6314
DTSTAMP:20260421T234357
DTSTART:20130905T000000
DTEND:20140905T000000
SUMMARY:Demà finalitzen les matriculacions del Centre de Formació d'Adults de la Llagosta
LOCATION:
METHOD:PUBLISH
X-WR-CALNAME:llagosta@llagosta.cat
X-WR-TIMEZONE:Europe/Madrid
DESCRIPTION:El Centre de Formació d'Adults de la Llagosta tancarà demà el període de matriculacions per al curs 2013-2014 per aquelles persones que van realitzar la preinscripció al mes de juny.  Tot i això, el centre obrirà a partir del proper dimarts, 10 de setembre, el termini d'inscripció per als estudis que no estan plens.
URI:https://www.llagosta.cat/actualitat/noticies/dema-finalitzen-les-matriculacions-del-centre-de-formacio-dadults-de-la-llagosta.html
CLASS:PUBLIC
END:VEVENT
END:VCALENDAR
