BEGIN:VCALENDAR
VERSION:2.0
CALSCALE:GREGORIAN
PRODID:-//Diputació de Barcelona//DibaCMS//EN
BEGIN:VEVENT
UID:6310
DTSTAMP:20260421T102721
DTSTART:20130904T000000
DTEND:20140904T000000
SUMMARY:Els Volats organitzen demà un espectacle infantil de teatre a la plaça d'Antoni Baqué
LOCATION:
METHOD:PUBLISH
X-WR-CALNAME:llagosta@llagosta.cat
X-WR-TIMEZONE:Europe/Madrid
DESCRIPTION:La colla dels Volats organitzarà demà un espectacle infantil de teatre a la plaça d'Antoni Baqué. L'acte, que començarà a les sis de la tarda, estarà protagonitzat pels nens que formen part dels Volats. 
URI:https://www.llagosta.cat/actualitat/noticies/els-volats-organitzen-dema-un-espectacle-infantil-de-teatre-a-la-placa-dantoni-baque.html
CLASS:PUBLIC
END:VEVENT
END:VCALENDAR
