BEGIN:VCALENDAR
VERSION:2.0
CALSCALE:GREGORIAN
PRODID:-//Diputació de Barcelona//DibaCMS//EN
BEGIN:VEVENT
UID:6309
DTSTAMP:20260421T140233
DTSTART:20130904T000000
DTEND:20140904T000000
SUMMARY:El sènior del CD la Concòrdia jugarà dissabte un amistós contra el Centelles
LOCATION:
METHOD:PUBLISH
X-WR-CALNAME:llagosta@llagosta.cat
X-WR-TIMEZONE:Europe/Madrid
DESCRIPTION:El sènior femení del Club Deportivo la Concòrdia jugarà dissabte un partit amistós contra el Centelles en el marc de la Festa Major de la Llagosta. L'enfrontament tindrà lloc a partir de les 18.30 hores al Pavelló del Complex Esportiu Municipal El Turó. 
URI:https://www.llagosta.cat/actualitat/noticies/el-senior-del-cd-la-concordia-jugara-dissabte-un-amistos-contra-el-centelles.html
CLASS:PUBLIC
END:VEVENT
END:VCALENDAR
