BEGIN:VCALENDAR
VERSION:2.0
CALSCALE:GREGORIAN
PRODID:-//Diputació de Barcelona//DibaCMS//EN
BEGIN:VEVENT
UID:6305
DTSTAMP:20260421T172741
DTSTART:20130903T000000
DTEND:20140903T000000
SUMMARY:El Viejas Glorias jugarà dissabte contra els Veterans del Mollet el torneig de Festa Major
LOCATION:
METHOD:PUBLISH
X-WR-CALNAME:llagosta@llagosta.cat
X-WR-TIMEZONE:Europe/Madrid
DESCRIPTION:El Club Deportivo Viejas Glorias jugarà dissabte contra els Veterans del Mollet el primer amistós de la pretemporada. El partit es disputarà a partir de les cinc de la tarda al Camp Municipal de Futbol Joan Gelabert i forma part de la programació de la Festa Major de la Llagosta.
URI:https://www.llagosta.cat/actualitat/noticies/el-viejas-glorias-jugara-dissabte-contra-els-veterans-del-mollet-el-torneig-de-festa-major.html
CLASS:PUBLIC
END:VEVENT
END:VCALENDAR
