BEGIN:VCALENDAR
VERSION:2.0
CALSCALE:GREGORIAN
PRODID:-//Diputació de Barcelona//DibaCMS//EN
BEGIN:VEVENT
UID:6304
DTSTAMP:20260423T144800
DTSTART:20130903T000000
DTEND:20140903T000000
SUMMARY:Dos canvis en activitats de la programació de la Festa Major de la Llagosta
LOCATION:
METHOD:PUBLISH
X-WR-CALNAME:llagosta@llagosta.cat
X-WR-TIMEZONE:Europe/Madrid
DESCRIPTION:La programació de la Festa Major ha patit dos canvis de darrera hora. Els jocs infantils de Protecció Civil previstos per a diumenge es faran finalment dissabte a les dotze del migdia al carrer de Girona.
URI:https://www.llagosta.cat/actualitat/noticies/dos-canvis-en-activitats-de-la-programacio-de-la-festa-major-de-la-llagosta.html
CLASS:PUBLIC
END:VEVENT
END:VCALENDAR
