BEGIN:VCALENDAR
VERSION:2.0
CALSCALE:GREGORIAN
PRODID:-//Diputació de Barcelona//DibaCMS//EN
BEGIN:VEVENT
UID:6301
DTSTAMP:20260421T220847
DTSTART:20130902T000000
DTEND:20140902T000000
SUMMARY:Avui ha començat el campus del Joventut Handbol la Llagosta amb 59 participants
LOCATION:
METHOD:PUBLISH
X-WR-CALNAME:llagosta@llagosta.cat
X-WR-TIMEZONE:Europe/Madrid
DESCRIPTION:Un total de 59 infants d'entre sis i catorze anys han començat avui el segon campus esportiu que organitza el Joventut Handbol la Llagosta. Els participants han estat repartits en cinc grups amb dos monitors cadascun. 
URI:https://www.llagosta.cat/actualitat/noticies/avui-ha-comencat-el-campus-del-joventut-handbol-la-llagosta-amb-59-participants.html
CLASS:PUBLIC
END:VEVENT
END:VCALENDAR
