BEGIN:VCALENDAR
VERSION:2.0
CALSCALE:GREGORIAN
PRODID:-//Diputació de Barcelona//DibaCMS//EN
BEGIN:VEVENT
UID:6296
DTSTAMP:20260421T210358
DTSTART:20130828T000000
DTEND:20140828T000000
SUMMARY:Les entrades per participar en el Corretasques de la Festa Major es posen a la venda dilluns
LOCATION:
METHOD:PUBLISH
X-WR-CALNAME:llagosta@llagosta.cat
X-WR-TIMEZONE:Europe/Madrid
DESCRIPTION:Dilluns, dia 2 de setembre, es posaran a la venda els tiquets per participar en el Corretasques que organitzarà el Grup La Feria durant la Festa Major de la Llagosta. Els tiquets es podran adquirir al preu de 12 euros al Centre Cultural i Juvenil Can Pelegrí de sis a vuit de la tarda fins al dia 5. 
URI:https://www.llagosta.cat/actualitat/noticies/les-entrades-per-participar-en-el-corretasques-de-la-festa-major-es-posen-a-la-venda-dilluns.html
CLASS:PUBLIC
END:VEVENT
END:VCALENDAR
