BEGIN:VCALENDAR
VERSION:2.0
CALSCALE:GREGORIAN
PRODID:-//Diputació de Barcelona//DibaCMS//EN
BEGIN:VEVENT
UID:6295
DTSTAMP:20260422T041854
DTSTART:20130828T000000
DTEND:20140828T000000
SUMMARY:Fins al 4 de setembre es poden presentar imatges per al Concurs Estatal de Fotografia
LOCATION:
METHOD:PUBLISH
X-WR-CALNAME:llagosta@llagosta.cat
X-WR-TIMEZONE:Europe/Madrid
DESCRIPTION:El Foto-Club la Llagosta manté obert fins al 4 de setembre el termini de presentació d'obres per a la tretzena edició del Concurs Estatal de Fotografia la Llagosta. Les imatges han de ser lliurades a Can Pelegrí o per correu a l'apartat de correus 32 de la nostra localitat.
URI:https://www.llagosta.cat/actualitat/noticies/fins-al-4-de-setembre-es-poden-presentar-imatges-per-al-concurs-estatal-de-fotografia.html
CLASS:PUBLIC
END:VEVENT
END:VCALENDAR
