BEGIN:VCALENDAR
VERSION:2.0
CALSCALE:GREGORIAN
PRODID:-//Diputació de Barcelona//DibaCMS//EN
BEGIN:VEVENT
UID:6294
DTSTAMP:20260422T035614
DTSTART:20130827T000000
DTEND:20140827T000000
SUMMARY:Els gegants de la Llagosta participaran en la cercavila de la Festa Major de Santa Perpètua
LOCATION:
METHOD:PUBLISH
X-WR-CALNAME:llagosta@llagosta.cat
X-WR-TIMEZONE:Europe/Madrid
DESCRIPTION:La Colla Gegantera de la Llagosta participarà diumenge, 1 de setembre, en la cercavila de la Festa Major de Santa Perpètua. La intenció dels responsables de l'entitat és anar a la població veïna amb els tres gegants, però això dependrà del nombre de persones que participin en la sortida.
URI:https://www.llagosta.cat/actualitat/noticies/els-gegants-de-la-llagosta-participaran-en-la-cercavila-de-la-festa-major-de-santa-perpetua.html
CLASS:PUBLIC
END:VEVENT
END:VCALENDAR
