BEGIN:VCALENDAR
VERSION:2.0
CALSCALE:GREGORIAN
PRODID:-//Diputació de Barcelona//DibaCMS//EN
BEGIN:VEVENT
UID:6293
DTSTAMP:20260422T004714
DTSTART:20130827T000000
DTEND:20140827T000000
SUMMARY:A partir del dia 2 es pot fer la inscripció per al tercer Ral·li fotogràfic de Festa Major
LOCATION:
METHOD:PUBLISH
X-WR-CALNAME:llagosta@llagosta.cat
X-WR-TIMEZONE:Europe/Madrid
DESCRIPTION:El Foto-Club la Llagosta i la Colla Gegantera de la Llagosta organitzen el tercer Ral·li fotogràfic de Festa Major. L'activitat tindrà lloc el dia 7 de setembre entre les deu del matí i les nou del vespre. 
URI:https://www.llagosta.cat/actualitat/noticies/a-partir-del-dia-2-es-pot-fer-la-inscripcio-per-al-tercer-ralli-fotografic-de-festa-major.html
CLASS:PUBLIC
END:VEVENT
END:VCALENDAR
