BEGIN:VCALENDAR
VERSION:2.0
CALSCALE:GREGORIAN
PRODID:-//Diputació de Barcelona//DibaCMS//EN
BEGIN:VEVENT
UID:6292
DTSTAMP:20260421T104833
DTSTART:20130826T000000
DTEND:20140826T000000
SUMMARY:Oberta la inscripció per participar en el concurs per escollir la pubilleta i l'hereu 2013
LOCATION:
METHOD:PUBLISH
X-WR-CALNAME:llagosta@llagosta.cat
X-WR-TIMEZONE:Europe/Madrid
DESCRIPTION:Avui ha començat el període d'inscripcions per participar al concurs per escollir la pubilleta i l'hereu de la Llagosta 2013. L'elecció de l'hereu és una de les novetats de la Festa Major. En aquest concurs, poden participar tots els nens de la nostra localitat nascuts entre els anys 2003 i 2006.
URI:https://www.llagosta.cat/actualitat/noticies/oberta-la-inscripcio-per-participar-en-el-concurs-per-escollir-la-pubilleta-i-lhereu-2013.html
CLASS:PUBLIC
END:VEVENT
END:VCALENDAR
