BEGIN:VCALENDAR
VERSION:2.0
CALSCALE:GREGORIAN
PRODID:-//Diputació de Barcelona//DibaCMS//EN
BEGIN:VEVENT
UID:6291
DTSTAMP:20260421T122413
DTSTART:20130826T000000
DTEND:20140826T000000
SUMMARY:El Consistori comença avui la distribució del programa de la Festa Major
LOCATION:
METHOD:PUBLISH
X-WR-CALNAME:llagosta@llagosta.cat
X-WR-TIMEZONE:Europe/Madrid
DESCRIPTION:L'Ajuntament de la Llagosta ha començat avui a distribuir el programa de la Festa Major pels domicilis de la nostra localitat. La Festa Major de la Llagosta començarà el dia 6 de setembre i es perllongarà fins al dia 9. 
URI:https://www.llagosta.cat/actualitat/noticies/el-consistori-comenca-avui-la-distribucio-del-programa-de-la-festa-major.html
CLASS:PUBLIC
END:VEVENT
END:VCALENDAR
