BEGIN:VCALENDAR
VERSION:2.0
CALSCALE:GREGORIAN
PRODID:-//Diputació de Barcelona//DibaCMS//EN
BEGIN:VEVENT
UID:6290
DTSTAMP:20260422T061007
DTSTART:20130731T000000
DTEND:20140731T000000
SUMMARY:Durant els darrers mesos, Rems ha rebut diverses donacions per a ajudes socials
LOCATION:
METHOD:PUBLISH
X-WR-CALNAME:llagosta@llagosta.cat
X-WR-TIMEZONE:Europe/Madrid
DESCRIPTION:A banda de la subvenció municipal per a l'acció solidària que destina l'Ajuntament a través de l'Associació de Voluntariat Social Rems, entitats de la nostra localitat realitzen les seves donacions. Una solidaritat que arriba també de comerços i particulars.
URI:https://www.llagosta.cat/actualitat/noticies/durant-els-darrers-mesos-rems-ha-rebut-diverses-donacions-per-a-ajudes-socials.html
CLASS:PUBLIC
END:VEVENT
END:VCALENDAR
