BEGIN:VCALENDAR
VERSION:2.0
CALSCALE:GREGORIAN
PRODID:-//Diputació de Barcelona//DibaCMS//EN
BEGIN:VEVENT
UID:6288
DTSTAMP:20260424T111858
DTSTART:20130731T000000
DTEND:20140731T000000
SUMMARY:L'Ajuntament està satisfet amb l'acollida de les activitats de l'Estiu 2013
LOCATION:
METHOD:PUBLISH
X-WR-CALNAME:llagosta@llagosta.cat
X-WR-TIMEZONE:Europe/Madrid
DESCRIPTION:A falta de desenvolupar-se alguna activitat durant el mes d'agost. Des de l'Ajuntament de la Llagosta es fa un primer balanç positiu de la programació Estiu 2013. Des del passat 1 de juny, la nostra localitat ha acollit un bon nombre d'actes per a totes les edats.
URI:https://www.llagosta.cat/actualitat/noticies/lajuntament-esta-satisfet-amb-lacollida-de-les-activitats-de-lestiu-2013.html
CLASS:PUBLIC
END:VEVENT
END:VCALENDAR
