BEGIN:VCALENDAR
VERSION:2.0
CALSCALE:GREGORIAN
PRODID:-//Diputació de Barcelona//DibaCMS//EN
BEGIN:VEVENT
UID:6287
DTSTAMP:20260421T122038
DTSTART:20130731T000000
DTEND:20140731T000000
SUMMARY:Demà, el Banc de Sang instal·larà una unitat mòbil a la plaça d'Antoni Baqué
LOCATION:
METHOD:PUBLISH
X-WR-CALNAME:llagosta@llagosta.cat
X-WR-TIMEZONE:Europe/Madrid
DESCRIPTION:Una unitat mòbil del Banc de Sang estarà instal·lada aquest dijous a la Llagosta per fer una nova captació sanguínia. Les donacions es podran fer només en horari de tarda, de 17 a 19 h, a la plaça d'Antoni Baqué. 
URI:https://www.llagosta.cat/actualitat/noticies/dema-el-banc-de-sang-installara-una-unitat-mobil-a-la-placa-dantoni-baque.html
CLASS:PUBLIC
END:VEVENT
END:VCALENDAR
