BEGIN:VCALENDAR
VERSION:2.0
CALSCALE:GREGORIAN
PRODID:-//Diputació de Barcelona//DibaCMS//EN
BEGIN:VEVENT
UID:6286
DTSTAMP:20260422T114722
DTSTART:20130730T000000
DTEND:20140730T000000
SUMMARY:Els Saltats organitzen demà la seva primera activitat per escalfar la Festa Major
LOCATION:
METHOD:PUBLISH
X-WR-CALNAME:llagosta@llagosta.cat
X-WR-TIMEZONE:Europe/Madrid
DESCRIPTION:La colla dels Saltats organitza demà, a partir de les sis de la tarda, un concurs de rebosteria i activitats infantils a la plaça d'Antoni Baqué. Aquesta és la primera activitat que organitza els Saltats per començar a dinamitzar la propera Festa Major de la Llagosta.
URI:https://www.llagosta.cat/actualitat/noticies/els-saltats-organitzen-dema-la-seva-primera-activitat-per-escalfar-la-festa-major.html
CLASS:PUBLIC
END:VEVENT
END:VCALENDAR
