BEGIN:VCALENDAR
VERSION:2.0
CALSCALE:GREGORIAN
PRODID:-//Diputació de Barcelona//DibaCMS//EN
BEGIN:VEVENT
UID:6285
DTSTAMP:20260421T210307
DTSTART:20130730T000000
DTEND:20140730T000000
SUMMARY:El Gimnàs Okinawa Team tanca la temporada amb dues victòries de kick boxing
LOCATION:
METHOD:PUBLISH
X-WR-CALNAME:llagosta@llagosta.cat
X-WR-TIMEZONE:Europe/Madrid
DESCRIPTION:Dos membres del Gimnàs Okinawa Team de la Llagosta, Hamid El Houari i Rubén Cerezales, van participar a la vetllada de kick boxing celebrada divendres passat a Terrassa. Els dos lluitadors van guanyar els seus combats.
URI:https://www.llagosta.cat/actualitat/noticies/el-gimnas-okinawa-team-tanca-la-temporada-amb-dues-victories-de-kick-boxing.html
CLASS:PUBLIC
END:VEVENT
END:VCALENDAR
