BEGIN:VCALENDAR
VERSION:2.0
CALSCALE:GREGORIAN
PRODID:-//Diputació de Barcelona//DibaCMS//EN
BEGIN:VEVENT
UID:6284
DTSTAMP:20260421T140731
DTSTART:20130730T000000
DTEND:20140730T000000
SUMMARY:La Biblioteca fa balanç de les activitats realitzades durant aquest curs 2012-2013
LOCATION:
METHOD:PUBLISH
X-WR-CALNAME:llagosta@llagosta.cat
X-WR-TIMEZONE:Europe/Madrid
DESCRIPTION:La Biblioteca de la Llagosta fa un balanç positiu de les activitats organitzades al llarg d'aquest curs. Les novetats introduïdes, com ara el taller d'escriptura creativa o l'hora del conte en anglès han tingut una molt bona acollida.
URI:https://www.llagosta.cat/actualitat/noticies/la-biblioteca-fa-balanc-de-les-activitats-realitzades-durant-aquest-curs-2012-2013.html
CLASS:PUBLIC
END:VEVENT
END:VCALENDAR
