BEGIN:VCALENDAR
VERSION:2.0
CALSCALE:GREGORIAN
PRODID:-//Diputació de Barcelona//DibaCMS//EN
BEGIN:VEVENT
UID:6283
DTSTAMP:20260422T200510
DTSTART:20130729T000000
DTEND:20140729T000000
SUMMARY:Saltats i Volats comencen a preparar-se per la Festa Major de la Llagosta
LOCATION:
METHOD:PUBLISH
X-WR-CALNAME:llagosta@llagosta.cat
X-WR-TIMEZONE:Europe/Madrid
DESCRIPTION:Les colles dels Volats i dels Saltats comencen ja a escalfar la Festa Major de la Llagosta. Per ara, cada grup està format per més de 50 persones. El Xavi, dels Saltats, i l'Aitor, dels Volats ens han explicat tot sobre les dues colles i el que faran durant la Festa Major.

Escolta la entrevista íntegra clicant aquí
URI:https://www.llagosta.cat/actualitat/noticies/saltats-i-volats-comencen-a-preparar-se-per-la-festa-major-de-la-llagosta.html
CLASS:PUBLIC
END:VEVENT
END:VCALENDAR
