BEGIN:VCALENDAR
VERSION:2.0
CALSCALE:GREGORIAN
PRODID:-//Diputació de Barcelona//DibaCMS//EN
BEGIN:VEVENT
UID:6282
DTSTAMP:20260421T185824
DTSTART:20130729T000000
DTEND:20140729T000000
SUMMARY:L'alcalde critica la reforma de l'Administració local aprovada pel Consell de Ministres
LOCATION:
METHOD:PUBLISH
X-WR-CALNAME:llagosta@llagosta.cat
X-WR-TIMEZONE:Europe/Madrid
DESCRIPTION:L'alcalde de la Llagosta, Alberto López, ha criticat durament el projecte de llei de reforma de l'Administració local aprovat pel Consell de Ministres. López considera que és un greu atac a la democràcia. El govern del Partit Popular ha indicat que es pretén ordenar les competències de les administracions i estalviar uns 8.000 milions d'euros, entre d'altres mesures. 
URI:https://www.llagosta.cat/actualitat/noticies/lalcalde-critica-la-reforma-de-ladministracio-local-aprovada-pel-consell-de-ministres.html
CLASS:PUBLIC
END:VEVENT
END:VCALENDAR
