BEGIN:VCALENDAR
VERSION:2.0
CALSCALE:GREGORIAN
PRODID:-//Diputació de Barcelona//DibaCMS//EN
BEGIN:VEVENT
UID:6281
DTSTAMP:20260422T035628
DTSTART:20130726T000000
DTEND:20140726T000000
SUMMARY:Brave es projecta demà al Parc Popular, abans es veurà el curt De la burbuja a la obra social
LOCATION:
METHOD:PUBLISH
X-WR-CALNAME:llagosta@llagosta.cat
X-WR-TIMEZONE:Europe/Madrid
DESCRIPTION:El Parc Popular acollirà dissabte la primera sessió de Cinema a la Fresca del programa Estiu 2013, preparat per l'Ajuntament de la Llagosta. La pel·lícula que es projectarà serà Brave. La sessió començarà a les 22 h.
URI:https://www.llagosta.cat/actualitat/noticies/brave-es-projecta-dema-al-parc-popular-abans-es-veura-el-curt-de-la-burbuja-a-la-obra-social.html
CLASS:PUBLIC
END:VEVENT
END:VCALENDAR
