BEGIN:VCALENDAR
VERSION:2.0
CALSCALE:GREGORIAN
PRODID:-//Diputació de Barcelona//DibaCMS//EN
BEGIN:VEVENT
UID:6280
DTSTAMP:20260423T130652
DTSTART:20130726T000000
DTEND:20140726T000000
SUMMARY:L'Ajuntament i una plataforma ciutadana treballen per recuperar el pas sobre el Besòs
LOCATION:
METHOD:PUBLISH
X-WR-CALNAME:llagosta@llagosta.cat
X-WR-TIMEZONE:Europe/Madrid
DESCRIPTION:L'Ajuntament de la Llagosta està treballant per recuperar la passarel·la del riu Besòs que fa unes setmanes va eliminar l'empresa pública Adif després de les obres de construcció de la línia d'alta velocitat. Un grup de veïns han constituït la Plataforma Ciutadana Defensa Connexió amb el Medi Ambient la Llagosta per aconseguir també aquest objectiu.
URI:https://www.llagosta.cat/actualitat/noticies/lajuntament-i-una-plataforma-ciutadana-treballen-per-recuperar-el-pas-sobre-el-besos.html
CLASS:PUBLIC
END:VEVENT
END:VCALENDAR
