BEGIN:VCALENDAR
VERSION:2.0
CALSCALE:GREGORIAN
PRODID:-//Diputació de Barcelona//DibaCMS//EN
BEGIN:VEVENT
UID:6279
DTSTAMP:20260422T004535
DTSTART:20130726T000000
DTEND:20140726T000000
SUMMARY:Els gegants de la Llagosta visiten dissabte Canovelles abans de l'aturada estival
LOCATION:
METHOD:PUBLISH
X-WR-CALNAME:llagosta@llagosta.cat
X-WR-TIMEZONE:Europe/Madrid
DESCRIPTION:La Colla Gegantera de la Llagosta participarà dissabte en la 22a Trobada Gegantera de Canovelles. Aquesta serà la darrera sortida dels gegants de la Llagosta abans de l'aturada estival.

URI:https://www.llagosta.cat/actualitat/noticies/els-gegants-de-la-llagosta-visiten-dissabte-canovelles-abans-de-laturada-estival.html
CLASS:PUBLIC
END:VEVENT
END:VCALENDAR
