BEGIN:VCALENDAR
VERSION:2.0
CALSCALE:GREGORIAN
PRODID:-//Diputació de Barcelona//DibaCMS//EN
BEGIN:VEVENT
UID:6278
DTSTAMP:20260421T172550
DTSTART:20130726T000000
DTEND:20140726T000000
SUMMARY:El Centre Cultural acollirà durant tot el dissabte la primera Fira de Sabors Llatins
LOCATION:
METHOD:PUBLISH
X-WR-CALNAME:llagosta@llagosta.cat
X-WR-TIMEZONE:Europe/Madrid
DESCRIPTION:Aquest dissabte se celebrarà a la Llagosta la Fira de Sabors Llatins, organitzada per l'Associación de Residentes Bolivianos de la Llagosta i l'Ajuntament de la nostra localitat. Els actes es desenvoluparan al Centre Cultural i formen part de la programació Estiu 2013.
URI:https://www.llagosta.cat/actualitat/noticies/el-centre-cultural-acollira-durant-tot-el-dissabte-la-primera-fira-de-sabors-llatins.html
CLASS:PUBLIC
END:VEVENT
END:VCALENDAR
