BEGIN:VCALENDAR
VERSION:2.0
CALSCALE:GREGORIAN
PRODID:-//Diputació de Barcelona//DibaCMS//EN
BEGIN:VEVENT
UID:6277
DTSTAMP:20260421T202034
DTSTART:20130725T000000
DTEND:20140725T000000
SUMMARY:L'Ajuntament enderroca el quiosc-bar del Parc Popular per no complir la normativa
LOCATION:
METHOD:PUBLISH
X-WR-CALNAME:llagosta@llagosta.cat
X-WR-TIMEZONE:Europe/Madrid
DESCRIPTION:Aquest dijous han començat les obres per eliminar el quiosc-bar del Parc Popular. L'Ajuntament de la Llagosta vol substituir aquesta instal·lació per una més adequada per al seu servei públic i que garanteixi la seva seguretat.
URI:https://www.llagosta.cat/actualitat/noticies/lajuntament-enderroca-el-quiosc-bar-del-parc-popular-per-no-complir-la-normativa.html
CLASS:PUBLIC
END:VEVENT
END:VCALENDAR
