BEGIN:VCALENDAR
VERSION:2.0
CALSCALE:GREGORIAN
PRODID:-//Diputació de Barcelona//DibaCMS//EN
BEGIN:VEVENT
UID:6275
DTSTAMP:20260424T013827
DTSTART:20130724T000000
DTEND:20140724T000000
SUMMARY:El taller participatiu Esport, estiu i alimentació es torna a realitzar aquest dijous
LOCATION:
METHOD:PUBLISH
X-WR-CALNAME:llagosta@llagosta.cat
X-WR-TIMEZONE:Europe/Madrid
DESCRIPTION:Aquest dijous es farà un nou taller participatiu sobre Esport, estiu i alimentació, organitzat per l'Ajuntament de la Llagosta. L'activitat es desenvoluparà al Centre Cultural, a partir de les 19 h. Per participar en aquest taller encara queden places lliures.
URI:https://www.llagosta.cat/actualitat/noticies/el-taller-participatiu-esport-estiu-i-alimentacio-es-torna-a-realitzar-aquest-dijous.html
CLASS:PUBLIC
END:VEVENT
END:VCALENDAR
