BEGIN:VCALENDAR
VERSION:2.0
CALSCALE:GREGORIAN
PRODID:-//Diputació de Barcelona//DibaCMS//EN
BEGIN:VEVENT
UID:6274
DTSTAMP:20260422T000200
DTSTART:20130724T000000
DTEND:20140724T000000
SUMMARY:La Llagosta + Activa aconsegueix 200 Kg. d'aliments a la darrera sessió del Cinema solidari
LOCATION:
METHOD:PUBLISH
X-WR-CALNAME:llagosta@llagosta.cat
X-WR-TIMEZONE:Europe/Madrid
DESCRIPTION:La Llagosta + Activa va recaptar ahir uns 200 quilos d'aliments durant la tercera sessió del Cinema solidari que es va desenvolupar al Centre Cultural. A la projecció van assistir unes 200 persones, a les que s'han de sumar aquelles que van fer la seva aportació d'aliments però no es van quedar a veure la pel·lícula.
URI:https://www.llagosta.cat/actualitat/noticies/la-llagosta--activa-aconsegueix-200-kg-daliments-a-la-darrera-sessio-del-cinema-solidari.html
CLASS:PUBLIC
END:VEVENT
END:VCALENDAR
