BEGIN:VCALENDAR
VERSION:2.0
CALSCALE:GREGORIAN
PRODID:-//Diputació de Barcelona//DibaCMS//EN
BEGIN:VEVENT
UID:6272
DTSTAMP:20260421T222326
DTSTART:20130723T000000
DTEND:20140723T000000
SUMMARY:El CE la Llagosta tornarà a tenir un equip competint la Federació Catalana de Futbol
LOCATION:
METHOD:PUBLISH
X-WR-CALNAME:llagosta@llagosta.cat
X-WR-TIMEZONE:Europe/Madrid
DESCRIPTION:El Club Esportiu la Llagosta tindrà la propera temporada un equip amateur a la Federació Catalana de Futbol. El nou conjunt llagostenc militarà a la quarta catalana i disputarà els seus partits els dissabtes a les 18 h al Camp Municipal de Futbol Joan Gelabert.
URI:https://www.llagosta.cat/actualitat/noticies/el-ce-la-llagosta-tornara-a-tenir-un-equip-competint-la-federacio-catalana-de-futbol.html
CLASS:PUBLIC
END:VEVENT
END:VCALENDAR
