BEGIN:VCALENDAR
VERSION:2.0
CALSCALE:GREGORIAN
PRODID:-//Diputació de Barcelona//DibaCMS//EN
BEGIN:VEVENT
UID:6270
DTSTAMP:20260421T222159
DTSTART:20130722T000000
DTEND:20140722T000000
SUMMARY:35 persones assisteixen a la xerrada col·loqui del PSC sobre la reforma laboral i la de pensions
LOCATION:
METHOD:PUBLISH
X-WR-CALNAME:llagosta@llagosta.cat
X-WR-TIMEZONE:Europe/Madrid
DESCRIPTION:La reforma laboral aprovada pel govern del Partit Popular i els seus  plantejaments de cara a la reforma de les pensions van rebre divendres moltes crítiques durant l'acte organitzat pel Partit dels Socialistes de Catalunya a la Llagosta. Unes 35 persones van assistir a la xerrada col·loqui amb la diputada al Congrés dels Diputats Isabel López Chamosa, portaveu del PSOE al Pacte de Toledo.
URI:https://www.llagosta.cat/actualitat/noticies/35-persones-assisteixen-a-la-xerrada-colloqui-del-psc-sobre-la-reforma-laboral-i-la-de-pensions.html
CLASS:PUBLIC
END:VEVENT
END:VCALENDAR
