BEGIN:VCALENDAR
VERSION:2.0
CALSCALE:GREGORIAN
PRODID:-//Diputació de Barcelona//DibaCMS//EN
BEGIN:VEVENT
UID:6269
DTSTAMP:20260422T111226
DTSTART:20130722T000000
DTEND:20140722T000000
SUMMARY:L'Ajuntament torna a publicar al web les subvencions que atorga a les entitats
LOCATION:
METHOD:PUBLISH
X-WR-CALNAME:llagosta@llagosta.cat
X-WR-TIMEZONE:Europe/Madrid
DESCRIPTION:L'Ajuntament de la Llagosta ha fet públiques avui per segon any consecutiu les subvencions que atorga a les entitats socials, culturals i esportives del municipi. El document es pot consultar al tauler d'anuncis d'aquest web municipal.
URI:https://www.llagosta.cat/actualitat/noticies/lajuntament-torna-a-publicar-al-web-les-subvencions-que-atorga-a-les-entitats.html
CLASS:PUBLIC
END:VEVENT
END:VCALENDAR
