BEGIN:VCALENDAR
VERSION:2.0
CALSCALE:GREGORIAN
PRODID:-//Diputació de Barcelona//DibaCMS//EN
BEGIN:VEVENT
UID:6268
DTSTAMP:20260422T041958
DTSTART:20130722T000000
DTEND:20140722T000000
SUMMARY:El Maccabi de levantar guanya les 24 hores de futbol sala organitzades pel CD la Concòrdia
LOCATION:
METHOD:PUBLISH
X-WR-CALNAME:llagosta@llagosta.cat
X-WR-TIMEZONE:Europe/Madrid
DESCRIPTION:L'equip Maccabi de levantar ha estat el guanyador del segon Torneig de 24 hores de futbol sala masculí organitzat pel Club Deportivo la Concòrdia. A la final, disputada ahir a la tarda al Poliesportiu Antonio García Robledo, es va imposar per 3 a 0 al Shalke nos vamos. 
URI:https://www.llagosta.cat/actualitat/noticies/el-maccabi-de-levantar-guanya-les-24-hores-de-futbol-sala-organitzades-pel-cd-la-concordia.html
CLASS:PUBLIC
END:VEVENT
END:VCALENDAR
