BEGIN:VCALENDAR
VERSION:2.0
CALSCALE:GREGORIAN
PRODID:-//Diputació de Barcelona//DibaCMS//EN
BEGIN:VEVENT
UID:6267
DTSTAMP:20260421T160044
DTSTART:20130722T000000
DTEND:20140722T000000
SUMMARY:El Centre Cultural acull demà la darrera sessió de cinema infantil solidari d'aquest estiu
LOCATION:
METHOD:PUBLISH
X-WR-CALNAME:llagosta@llagosta.cat
X-WR-TIMEZONE:Europe/Madrid
DESCRIPTION:La Llagosta + Activa organitzarà demà la tercera i darrera sessió de cinema infantil solidari d'aquest estiu. L'activitat es desenvoluparà al Centre Cultural a partir de dos quarts de set de la tarda.
URI:https://www.llagosta.cat/actualitat/noticies/el-centre-cultural-acull-dema-la-darrera-sessio-de-cinema-infantil-solidari-daquest-estiu.html
CLASS:PUBLIC
END:VEVENT
END:VCALENDAR
