BEGIN:VCALENDAR
VERSION:2.0
CALSCALE:GREGORIAN
PRODID:-//Diputació de Barcelona//DibaCMS//EN
BEGIN:VEVENT
UID:6266
DTSTAMP:20260423T033603
DTSTART:20130719T000000
DTEND:20140719T000000
SUMMARY:La música serà present demà a la Llagosta amb una jam sesion i un concert jove
LOCATION:
METHOD:PUBLISH
X-WR-CALNAME:llagosta@llagosta.cat
X-WR-TIMEZONE:Europe/Madrid
DESCRIPTION:Aquest dissabte hi ha dues propostes musicals a la Llagosta adreçada bàsicament als joves. El Casal Popular la República acollirà demà a la tarda una jam sesion. Per la seva part, la Llagosta Brava organitzarà a la nit un concert de música jove.
URI:https://www.llagosta.cat/actualitat/noticies/la-musica-sera-present-dema-a-la-llagosta-amb-una-jam-sesion-i-un-concert-jove.html
CLASS:PUBLIC
END:VEVENT
END:VCALENDAR
