BEGIN:VCALENDAR
VERSION:2.0
CALSCALE:GREGORIAN
PRODID:-//Diputació de Barcelona//DibaCMS//EN
BEGIN:VEVENT
UID:6265
DTSTAMP:20260421T173129
DTSTART:20130719T000000
DTEND:20140719T000000
SUMMARY:Els Mossos d'Esquadra ofereixen consells per evitar robatoris durant les vacances
LOCATION:
METHOD:PUBLISH
X-WR-CALNAME:llagosta@llagosta.cat
X-WR-TIMEZONE:Europe/Madrid
DESCRIPTION:L'Oficina de Relacions amb la Comunitat de la Comissaria dels Mossos d'Esquadra de Mollet del Vallès ha donat una sèrie de consells de seguretat per evitar patir robatoris durant les vacances durant l'estiu. Els Mossos d'Esquadra recorden que és important que no quedi clar que l'habitatge ha quedat buit. 
URI:https://www.llagosta.cat/actualitat/noticies/els-mossos-desquadra-ofereixen-consells-per-evitar-robatoris-durant-les-vacances.html
CLASS:PUBLIC
END:VEVENT
END:VCALENDAR
