BEGIN:VCALENDAR
VERSION:2.0
CALSCALE:GREGORIAN
PRODID:-//Diputació de Barcelona//DibaCMS//EN
BEGIN:VEVENT
UID:6264
DTSTAMP:20260423T144458
DTSTART:20130719T000000
DTEND:20140719T000000
SUMMARY:El CD La Concòrdia organitza el cap de setmana el segon torneig de 24 hores de futbol sala
LOCATION:
METHOD:PUBLISH
X-WR-CALNAME:llagosta@llagosta.cat
X-WR-TIMEZONE:Europe/Madrid
DESCRIPTION:Un total de catorze equips participaran aquest cap de setmana en la segona edició del torneig de 24 hores de futbol sala masculí organitzat pel Club Deportivo La Concòrdia. La competició tindrà lloc al Poliesportiu Antonio García Robledo.
URI:https://www.llagosta.cat/actualitat/noticies/el-cd-la-concordia-organitza-el-cap-de-setmana-el-segon-torneig-de-24-hores-de-futbol-sala.html
CLASS:PUBLIC
END:VEVENT
END:VCALENDAR
