BEGIN:VCALENDAR
VERSION:2.0
CALSCALE:GREGORIAN
PRODID:-//Diputació de Barcelona//DibaCMS//EN
BEGIN:VEVENT
UID:6261
DTSTAMP:20260421T204724
DTSTART:20130718T000000
DTEND:20140710T000000
SUMMARY:En marxa el dispositiu de seguretat viària Pas de l'estret a càrrec dels Mossos d'Esquadra
LOCATION:
METHOD:PUBLISH
X-WR-CALNAME:llagosta@llagosta.cat
X-WR-TIMEZONE:Europe/Madrid
DESCRIPTION:Els Mossos d'Esquadra han posat en marxa, un any més, el dispositiu Pas de l'estret per garantir particularment la seguretat viària d'aquelles persones que viatgen al Nord d'Àfrica per l'autopista AP7 al seu pas per Catalunya i, en general, de tots els usuaris d'aquesta via. 
URI:https://www.llagosta.cat/actualitat/noticies/en-marxa-el-dispositiu-de-seguretat-viaria-pas-de-lestret-a-carrec-dels-mossos-desquadra.html
CLASS:PUBLIC
END:VEVENT
END:VCALENDAR
