BEGIN:VCALENDAR
VERSION:2.0
CALSCALE:GREGORIAN
PRODID:-//Diputació de Barcelona//DibaCMS//EN
BEGIN:VEVENT
UID:6260
DTSTAMP:20260422T141642
DTSTART:20130718T000000
DTEND:20140718T000000
SUMMARY:Cinc municipis vallesans signen a Sentmenat la Declaració de la riera de Caldes 
LOCATION:
METHOD:PUBLISH
X-WR-CALNAME:llagosta@llagosta.cat
X-WR-TIMEZONE:Europe/Madrid
DESCRIPTION:Les alcaldesses i els alcaldes de Sentmenat, la Llagosta, Palau-solità i Plegamans, Polinyà i Santa Perpètua de Mogoda van signar ahir la Declaració de la riera de Caldes, un compromís de cooperació dels municipis que conformen aquest eix. 
URI:https://www.llagosta.cat/actualitat/noticies/cinc-municipis-vallesans-signen-a-sentmenat-la-declaracio-de-la-riera-de-caldes-.html
CLASS:PUBLIC
END:VEVENT
END:VCALENDAR
