BEGIN:VCALENDAR
VERSION:2.0
CALSCALE:GREGORIAN
PRODID:-//Diputació de Barcelona//DibaCMS//EN
BEGIN:VEVENT
UID:6259
DTSTAMP:20260422T114642
DTSTART:20130717T000000
DTEND:20140717T000000
SUMMARY:El CD la Concòrdia tanca la plantilla de la propera temporada amb nous fixatges
LOCATION:
METHOD:PUBLISH
X-WR-CALNAME:llagosta@llagosta.cat
X-WR-TIMEZONE:Europe/Madrid
DESCRIPTION:El Club Deportivo la Concòrdia ha fitxat per a la propera temporada tres noves jugadores per reforçar el primer equip, Krys Serrano, Vero Jurado i Pam Alférez, procedents del Castellbisbal. Al conjunt també s'incorpora Marta Ortega, portera del cadet femení del club llagostenc.
URI:https://www.llagosta.cat/actualitat/noticies/el-cd-la-concordia-tanca-la-plantilla-de-la-propera-temporada-amb-nous-fixatges.html
CLASS:PUBLIC
END:VEVENT
END:VCALENDAR
