BEGIN:VCALENDAR
VERSION:2.0
CALSCALE:GREGORIAN
PRODID:-//Diputació de Barcelona//DibaCMS//EN
BEGIN:VEVENT
UID:6258
DTSTAMP:20260421T114138
DTSTART:20130717T000000
DTEND:20140717T000000
SUMMARY:Convocat el Concurs Estatal de Fotografia organitzat pel Foto-Club la Llagosta
LOCATION:
METHOD:PUBLISH
X-WR-CALNAME:llagosta@llagosta.cat
X-WR-TIMEZONE:Europe/Madrid
DESCRIPTION:El Foto-Club la Llagosta ja ha convocat la tretzena edició del Concurs Estatal de Fotografia La Llagosta. Les imatges es poden presentar fins el 4 de setembre a Can Pelegrí o per correu, a l'apartat de correus 32 de la nostra localitat.
URI:https://www.llagosta.cat/actualitat/noticies/convocat-el-concurs-estatal-de-fotografia-organitzat-pel-foto-club-la-llagosta.html
CLASS:PUBLIC
END:VEVENT
END:VCALENDAR
