BEGIN:VCALENDAR
VERSION:2.0
CALSCALE:GREGORIAN
PRODID:-//Diputació de Barcelona//DibaCMS//EN
BEGIN:VEVENT
UID:6255
DTSTAMP:20260422T002019
DTSTART:20130716T000000
DTEND:20140716T000000
SUMMARY:Unes 50 persones assisteixen al concert solidari organitzat per La Llagosta + Activa
LOCATION:
METHOD:PUBLISH
X-WR-CALNAME:llagosta@llagosta.cat
X-WR-TIMEZONE:Europe/Madrid
DESCRIPTION:El concert solidari organitzat diumenge per La Llagosta + Activa va tenir una baixa afluència de públic. Una cinquantena de persones es van apropar fins al Centre Cultural per assistir al recital de presentació del primer treball discogràfic de l'artista local Ruth Garlet.
URI:https://www.llagosta.cat/actualitat/noticies/unes-50-persones-assisteixen-al-concert-solidari-organitzat-per-la-llagosta--activa.html
CLASS:PUBLIC
END:VEVENT
END:VCALENDAR
