BEGIN:VCALENDAR
VERSION:2.0
CALSCALE:GREGORIAN
PRODID:-//Diputació de Barcelona//DibaCMS//EN
BEGIN:VEVENT
UID:6253
DTSTAMP:20260423T042027
DTSTART:20130716T000000
DTEND:20140716T000000
SUMMARY:L'Ajuntament demana a Telefònica que millori l'accés a internet des de la Llagosta
LOCATION:
METHOD:PUBLISH
X-WR-CALNAME:llagosta@llagosta.cat
X-WR-TIMEZONE:Europe/Madrid
DESCRIPTION:El regidor de Territori i Comunicació de l'Ajuntament de la Llagosta, Jordi Alonso, ha enviat una carta a la direcció de Telefònica (Movistar) per tal que la companyia millori el servei d'accés a internet des del municipi. El Consistori considera que internet és una eina imprescindible en el dia a dia de qualsevol ciutadà, empresa o comerç i tenir un accés a internet amb prou ample de banda per satisfer les necessitats de la ciutadania és una exigència irrenunciable per a una part molt important de la població i bàsica i imprescindible per al desenvolupament de la indústria i el comerç local.
URI:https://www.llagosta.cat/actualitat/noticies/lajuntament-demana-a-telefonica-que-millori-lacces-a-internet-des-de-la-llagosta.html
CLASS:PUBLIC
END:VEVENT
END:VCALENDAR
